BEGIN:VCALENDAR
VERSION:2.0
PRODID:-//Las Vegas Triathlon Club - ECPv6.11.2//NONSGML v1.0//EN
CALSCALE:GREGORIAN
METHOD:PUBLISH
X-ORIGINAL-URL:https://lvtriclub.com
X-WR-CALDESC:Events for Las Vegas Triathlon Club
REFRESH-INTERVAL;VALUE=DURATION:PT1H
X-Robots-Tag:noindex
X-PUBLISHED-TTL:PT1H
BEGIN:VTIMEZONE
TZID:America/Los_Angeles
BEGIN:DAYLIGHT
TZOFFSETFROM:-0800
TZOFFSETTO:-0700
TZNAME:PDT
DTSTART:20240310T100000
END:DAYLIGHT
BEGIN:STANDARD
TZOFFSETFROM:-0700
TZOFFSETTO:-0800
TZNAME:PST
DTSTART:20241103T090000
END:STANDARD
END:VTIMEZONE
BEGIN:VEVENT
DTSTART;TZID=America/Los_Angeles:20240714T063000
DTEND;TZID=America/Los_Angeles:20240714T110000
DTSTAMP:20260424T040440
CREATED:20240131T163637Z
LAST-MODIFIED:20240629T215907Z
UID:3409-1720938600-1720954800@lvtriclub.com
SUMMARY:LVTC Event #3: Aquabike
DESCRIPTION:Edit: The date for this event changed from July 7th to July 14th. \nSwim starts at 6:30 am; transition opens at 5:30 am. \n————————————————————————————————————– \nThis is one of the four multisport events offered by the Las Vegas Triathlon Club (LVTC). \nThese events are Free for LVTC members https://lvtriclub.com/memberships/ \nYou must register for this event through the LVTC webpage: www.lvtriclub.com (be sure to log into your account). Registration for the event is closed 48 hours before the event. The event is limited to 50 athletes. \nPlease check the webpage for more details about the event. Distances are: \nSwim: ~500-750 m \nBike: 20 km
URL:https://lvtriclub.com/lvtriclub-event/lvtc-event-3-aquabike/
LOCATION:Boulder Beach\, Lake Mead National Recreation Area\, Lakeshore Road\, Boulder City\, NV\, 89005\, United States
CATEGORIES:Club Training Events
ATTACH;FMTTYPE=image/jpeg:https://lvtriclub.com/wp-content/uploads/2021/03/LVTriClub-Email-Header-Logo.jpg
END:VEVENT
END:VCALENDAR